Workbook

Sheet FAI DIF
C3: Evaluación al Segundo Trimestre 2026
C4: Departamento: Sistema para el Desarrollo Integral de la Familia del Municipio de San Joaquín, Qro. | H4: Trimestre reportado: Segundo Trimestre 2026
C5: Eje: Salud y vida digna | H5: Responsable de Evaluación: | I5: LTF. Andrea Saray Martinez Arteaga
C6: Nombre programa: Unidad Básica de Rehabilitación | H6: Fecha:
C8: RESUMEN NARRATIVO | D8: INDICADORES | G8: MEDIOS DE VERIFICACIÓN | H8: SUPUESTOS | I8: AVANCE
D9: Nombre del indicador | E9: Método de cálculo | F9: Frecuencia de Medición | I9: Descripción de las actividades en estricta correlación a la meta y al método de cálculo | J9: Población beneficiaria | K9: Meta (real por periodo/acumulada) | L9: Numerador | M9: Denominador | N9: Meta alcanzada | O9: Variación | P9: Observaciones de la variación
B12: FIN | C12: BRINDAR A LA POBLACION CON DISCAPACIDAD PERMANENTE, TRANSITORIA Y PROBLEMAS DE LENGUAJE DEL MUNICIPIO DE SAN JOAQUIN Y COMUNIDADES CERCANAS DE CADEREYTA SERVICIOS DE TERAPIA FISICA Y TERAPIA DE LENGUAJE DE BUENA CALIDAD. | D12: TASA DE VARIACION DE POBLACION CON DISCAPACIDAD ATENDIDA | E12: ((PORCETAJE POBLACION CON DISCAPACIDAD ATENDIDA EN EL AÑO 2025 - PORCENTAJE DE POBLACION CON DISCAPACIDAD ATENDIDA EN EL AÑO 2026)-1)*100 | F12: ANUAL | G12: INFORMES MENSUALES Y ANUALES | H12: LOS PACIENTES MUESTRAN INTERES POR ASISTIR A SUS TERAPIAS | K12: 0 | L12: 0 | M12: 0 | N12: NA | O12: NA
B13: PROPÓSITO | C13: LAS PERSONAS CON DISCAPACIDAD PERMANENTE O TRANSITORIA Y PROBLEMAS DE LENGUAJE DEL MUNICIPIO DE SAN JOAQUÍN Y COMUNIDADES CERCANAS DE CADEREYTA ACCEDEN AL SERVICIO DE TERAPIA FISICA Y LENGUAJE. | D13: PORCENTAJE DE POBLACION CON DISCAPACIDAD ATENDIDA | E13: (PERSONAS CON DISCAPACIDAD ATENDIDAS / TOTAL DE POBLACION CON DISCAPACIDAD)*100 | F13: ANUAL | G13: REGISTRO DIARIO Y CENSO POBLACION Y VIVIENDA http://sedea.queretaro.gob.mx | H13: SE PRESENTAN CONDICIONES CLIMATICAS PROPICIAS PARA QUE LOS PACIENTES ASISTAN A SUS TERAPIAS | K13: 0 | L13: 0 | M13: 0 | N13: NA | O13: NA
B14: COMPONENTES | C14: SERVICIOS DE REHABILITACION REALIZADOS | D14: DEL TOTAL DE PACIENTES PROGRAMADOS ESTE INDICADOR MUESTRA EL PORCENTAJE DE PACIENTES ATENDIDOS | E14: (PACIENTES ATENDIDOS / PACIENTES PROGRAMADOS)*100 | F14: SEMESTRAL | G14: REGISTRO DIARIO, INFORMES MENSUALES, CRONOGRAMA OFICIAL DE ACTIVIDADES. | H14: LOS PACIENTES MUESTRAN INTERES POR ASISTIR A SUS TERAPIAS | I14: De las 2260 sesiones de terapia fisica programadas se realizaron 2667 | J14: 1411 personas con alguna discapacidad transitoria o permanente ya sea neurologica o por alguna lesion | K14: 0.8 | L14: 2667 | M14: 2260 | N14: =L14/M14 -> 1.1800885 | O14: =N14-K14 -> 0.3800885
C15: SERVICIOS DE TRASLADO ESPECIALIZADO DE PACIENTES | D15: DEL TOTAL DE RUTAS PROGRAMADAS ESTE INDICADOR MUESTRA EL PORCENTAJE DE RUTAS REALIZADAS | E15: (RUTAS REALIZDAS / RUTAS PROGRAMADAS)*100 | F15: SEMESTRAL | G15: BITACORA DE KILOMETRAJE Y REPORTE DIARIO DE RUTA DE PACIENTES | H15: LOS PACIENTES MUESTRAN INTERES POR ASISTIR A SUS TERAPIAS | K15: 0 | L15: 0 | M15: 0 | N15: =L15/M15 -> #DIV/0! | O15: =N15-K15 -> #DIV/0!
B16: ACTIVIDADES | C16: PROGRAMACIÓN DE TERAPIAS FISICAS | D16: PORCENTAJE DE PACIENTES ATENDIDOS EN TERAPIA FISICA | E16: (PACIENTES ATENDIDOS EN TERAPIA FISICA / PACIENTES PROGRAMADOS EN TERAPIA FISICA)*100 | F16: TRIMESTRAL | G16: REGISTRO DIARIO, INFORMES MENSUALES, CRONOGRAMA OFICIAL DE ACTIVIDADES DISPONIBLE EN: CARPETAS 3 Y 4 LIBRERO DE MADERA, ANAQUEL 1, OFICINA UBR. | H16: LOS SERVICIOS DE SALUD REALIZAN DIAGNOSTICOS Y CANALIZACIONES OPORTUNAS | I16: De las 1260 sesiones de terapia fisica programadas se realizaron 1600 | J16: 851 personas con alguna discapacida transitoria o permanente ya sea neurológica o por alguna lesión | K16: 0.8 | L16: 1600 | M16: 1260 | N16: =L16/M16 -> 1.2698413 | O16: =N16-K16 -> 0.46984127
C17: PROGRAMACIÓN DE TERAPIAS DE LENGUAJE | D17: PORCENTAJE DE PACIENTES ATENDIDOS EN TERAPIA DE LENGUAJE | E17: (PACIENTES ATENDIDOS EN TERAPIA DE LENGUAJE / PACIENTES PROGRAMADOS EN TERAPIA DE LENGUAJE)*100 | F17: TRIMESTRAL | G17: REGISTRO DIARIO, INFORMES MENSUALES, CRONOGRAMA OFICIAL DE ACTIVIDADES DISPONIBLE EN: CARPETAS 3 Y 4 LIBRERO DE MADERA, ANAQUEL 1, OFICINA UBR. | H17: LOS SERVICIOS DE SALUD REALIZAN DIAGNOSTICOS Y CANALIZACIONES OPORTUNAS. | I17: De las 260 sesiones programadas de Terapia de lenguaje se realizaron 256 | J17: 256 personas con problemas de lenguaje | K17: 0.8 | L17: 256 | M17: 260 | N17: =L17/M17 -> 0.98461538 | O17: =N17-K17 -> 0.18461538
C18: PROGRAMACION DE TRASLADOS ESPECIALIZADOS | D18: PORCENTAJE DE RUTAS REALIZDAS | E18: (RUTAS REALIZDAS / RUTAS PROGRAMADAS)*100 | F18: TRIMESTRAL | G18: BITACORA DE KILOMETRAJE Y REPORTE DIARIO DE RUTA DE PACIENTES | H18: LOS PACIENTES REALIZAN SOLICTUD DE TRASLADO DE ACUERDO AL MANUAL DE PROCEDIMIENTOS DEL SERVICIO DE TRANSPORTE ESPECIALIZADO, SE PRESENTAN CONTRATIEMPOS COMO PERIODOS VACACIONALES DEL PERSONAL | I18: De las 30 rutas programadas, 10 por mes se realizaron 30 rutas. | K18: 0 | L18: 0 | M18: 0 | N18: =L18/M18 -> #DIV/0! | O18: =N18-K18 -> #DIV/0!
C19: PROGRAMACION DE PLATICAS EDUCATIVAS Y PREVENTIVAS DE SALUD EN ESCUELAS DEL MUNICIPIO | D19: PORCENTAJE DE PLATICAS REALIZDAS | E19: PORCENTAJE DE PLATICAS REALIZDAS | F19: PORCENTAJE DE PLATICAS REALIZDAS | G19: PORCENTAJE DE PLATICAS REALIZDAS | H19: PORCENTAJE DE PLATICAS REALIZDAS | I19: De las 3 platicas programadas, 1 por mes se realizaron 4 | J19: 81 personas participantes en las platicas | K19: 0.8 | L19: 4 | M19: 3 | N19: =L19/M19 -> 1.3333333 | O19: =N19-K19 -> 0.53333333
D23: LTF. ANDREA SARAY MARTINEZ ARTEAGA
D24: RESPONSABLE DE EVALUACIÓN | J24: TITULAR DEL DEPARTAMENTO
J25: VALIDACIÓN DE LA INFORMACIÓN | L25: VALIDACIÓN DE LA INFORMACIÓN

Sheet RESULTADOS DIF
A4: Evaluación al Segundo Trimestre 2026
A5: Departamento: Sistema para el Desarrollo Integral de la Familia del Municipio de San Joaquín, Qro. | F5: ='FAI DIF'!H4 -> Trimestre reportado: Segundo Trimestre 2026
A6: Eje: Salud, Familia y Bienestar | F6: ='FAI DIF'!H5 -> Responsable de Evaluación: | H6: LTF. Andrea Saray Martínez Arteaga
A7: Nombre programa: Unidad Básica de Rehabilitación | F7: ='FAI DIF'!H6 -> Fecha:
A24: N° | B24: Nombre del Indicador | F24: Estatus | G24: Validados
A25: 1 | B25: ='FAI DIF'!D12 -> TASA DE VARIACION DE POBLACION CON DISCAPACIDAD ATENDIDA | F25: NA | G25: NA
A26: 2 | B26: ='FAI DIF'!D13 -> PORCENTAJE DE POBLACION CON DISCAPACIDAD ATENDIDA | F26: NA | G26: NA
B27: ='FAI DIF'!D14 -> DEL TOTAL DE PACIENTES PROGRAMADOS ESTE INDICADOR MUESTRA EL PORCENTAJE DE PACIENTES ATENDIDOS | F27: =IF('FAI DIF'!O14<0, "Meta NO Cumplida", "Meta Cumplida") -> Meta Cumplida | G27: NA
A28: 3 | B28: ='FAI DIF'!D15 -> DEL TOTAL DE RUTAS PROGRAMADAS ESTE INDICADOR MUESTRA EL PORCENTAJE DE RUTAS REALIZADAS | F28: =IF('FAI DIF'!O15<0, "Meta NO Cumplida", "Meta Cumplida") -> #DIV/0! | G28: NA
A29: 4 | B29: ='FAI DIF'!D16 -> PORCENTAJE DE PACIENTES ATENDIDOS EN TERAPIA FISICA | F29: =IF('FAI DIF'!O16<0, "Meta NO Cumplida", "Meta Cumplida") -> Meta Cumplida | G29: NA
A30: 5 | B30: ='FAI DIF'!D17 -> PORCENTAJE DE PACIENTES ATENDIDOS EN TERAPIA DE LENGUAJE | F30: =IF('FAI DIF'!O17<0, "Meta NO Cumplida", "Meta Cumplida") -> Meta Cumplida | G30: NA
A31: 6 | B31: ='FAI DIF'!D18 -> PORCENTAJE DE RUTAS REALIZDAS | F31: =IF('FAI DIF'!O18<0, "Meta NO Cumplida", "Meta Cumplida") -> #DIV/0! | G31: NA
A32: 7 | B32: ='FAI DIF'!D19 -> PORCENTAJE DE PLATICAS REALIZDAS | F32: =IF('FAI DIF'!O17<0, "Meta NO Cumplida", "Meta Cumplida") -> Meta Cumplida | G32: NA
B33: INDICADORES CON META CUMPLIDA | F33: =COUNTIF(F25:F32, "META CUMPLIDA") -> 4 | G33: =COUNTIF(G25:G32, "SI") -> 0
A35: SIN OBSERVACIONES
