Workbook

Sheet FAI CULTURA
C3: Evaluación al Primer Trimestre 2026
C4: Departamento: CASA MUNICIPAL DE LA CULTURA | H4: Trimestre reportado: Primer Trimestre
C5: Eje: EDUCACIÓN CULTURA Y DEPORTE | H5: Responsable de Evaluación: | I5: María Del Sagrario González Alvarado
C6: Nombre programa: DIVERSIDAD CULTURAL | H6: Fecha: 30 de marzo
C8: RESUMEN NARRATIVO | D8: INDICADORES | G8: MEDIOS DE VERIFICACIÓN | H8: SUPUESTOS | I8: AVANCE
D9: Nombre del indicador | E9: Método de cálculo | F9: Frecuencia de Medición | I9: Descripción de las actividades en estricta correlación a la meta y al método de cálculo | J9: Población beneficiaria | K9: Meta (real por periodo/acumulada) | L9: Numerador | M9: Denominador | N9: Meta alcanzada | O9: Variación | P9: Observaciones de la variación
B12: FIN | C12: Contribuir a mejorar la condición de vida de la población sanjoaquinense mediante actividades culturales. | D12: tasa de variación en eventos culturales y artísticos | E12: (eventos realizados en el año 2025/eventos realizados en el año 2024)*100 | F12: anual | G12: reporte de actividades y POA de los años 2024 y 2025 | H12: La población objetivo crea un sentido de pertenencia con las actividades artístico-culturales. | K12: 0 | L12: 0 | M12: 0 | N12: NA | O12: NA
B13: PROPÓSITO | C13: La población de 6 años en adelante de San Joaquín, presenta interés en las actividades tradicionales y artístico-culturales | D13: tasa de variación de población que asiste a talleres y cursos | E13: (asistentes a talleres y cursos en el año 2025/asistentes a talleres y cursos en el año 2024)*100 | F13: anual | G13: listas de asistencia de los años (2024 y 2025) | H13: Ciudadania interesada en formar parte de los aspectos tradicionales y artístico-culturales | K13: 0 | L13: 0 | M13: 0 | N13: NA | O13: NA
B14: COMPONENTES | C14: Asistentes beneficiados con talleres y cursos en cabecera y comunidades. | D14: porcentaje de alumnos beneficiados | E14: (alumnos beneficiados/total de alumnos registrados)*100 | F14: semestral | G14: listas de asistencia y base de datos | H14: Sanjoaquinenses cuentan con mayor oferta en actividades | K14: 0 | L14: 0 | M14: 0 | N14: NA | O14: NA
C15: Actividades tradicionales y artístico-culturales. | D15: Porcentaje de eventos realizados | E15: (eventos realizados/eventos programados)*100 | F15: semestral | G15: reporte de actividades y POA | H15: La sociedad reafirma el sentido de pertenencia y relaciones solidas e incluyentes | K15: 0 | L15: 0 | M15: 0 | N15: NA | O15: NA
C16: Intercambios artístico-culturales a nivel nacional e internacional. | D16: porcentaje de intercambios realizados | E16: (intercambios realizados/intercambios programados)*100 | F16: semestral | G16: reporte de actividades y POA | H16: Preservación, conservación y promoción de las tradiciones mexicanas | K16: 0 | L16: 0 | M16: 0 | N16: NA | O16: NA
B17: ACTIVIDADES | C17: Administración de talleres y cursos. | D17: porcentaje de talleres y cursos | E17: (talleres y cursos realizados/talleres y cursos programados)*100 | F17: trimestral | G17: listas de asistencia, registro a curso y cronograma anual | H17: La sociedad en especifico cuenta con diversidad de actividades para un desarrollo favorable. | I17: se programaron 7 talleres en horarios dispersos de lunes a sábado: artes, música, música sinfónica, música huasteca, danza folklórica, musicalizacion y versificacion, H.H. | K17: 0 | L17: 229 | M17: 249 | N17: =L17/M17 -> 0.91967871 | O17: =N17-K17 -> 0.91967871 | P17: se impartierón 7 talleres en los meses de Enero - Marzo
C18: Planeación de eventos y cines | D18: porcentaje de realización de eventos y cines | E18: (eventos realizados/eventos programados)*100 | F18: trimestral | G18: reporte de actividades y POA | H18: Los habitantes y visitantes son parte de las actividades programadas en eventos artístico-culturales. | I18: se programaron 12 sabados de magia cultura y sabor mas 3 eventos culturales y proyecciones de cine | K18: 0 | L18: 15 | M18: 15 | N18: =L18/M18 -> 1 | O18: =N18-K18 -> 1 | P18: Se realizarón 15 eventos y hubo proyecciones de cine y se presto la Sala audiovisual se mantuvo activa como un espacio de uso interinstitucional, para diferentes eventos.
C19: Programación artística en Fiestas Patronales | D19: Porcentaje de eventos realizados | E19: (presentaciones realizadas/presentaciones programadas)*100 | F19: trimestral | G19: reporte de actividades y calendario de festividades | H19: Comunidades cuentan con presentaciones artísticas inclusivas. | I19: Se cubrira 3 eventos de fiesta patronal en comunidades del municipio, dentro del margen de fiestas patronales en los meses octubre - marzo | K19: 0 | L19: 3 | M19: 3 | N19: =L19/M19 -> 1 | O19: =N19-K19 -> 1 | P19: se cubrio presentación en 3 comunidades que solicitaron el apoyo,asi mismo se cubrio el evento en la comunidad de Agua de Venado que se avia cancelado en octubre,las restantes no solicitaron event
C23: María Del Sagrario González Alvarado | J23: Ana Leticia Arteaga Martinez
D24: NOMBRE Y FIRMA | J24: NOMBRE Y FIRMA
D25: RESPONSABLE DE EVALUACIÓN | J25: TITULAR DEL DEPARTAMENTO
J26: VALIDACIÓN DE LA INFORMACIÓN | L26: VALIDACIÓN DE LA INFORMACIÓN

Sheet RESULTADOS CULTURA
A4: Evaluación al Primer Trimestre 2026
A5: Departamento: CASA MUNICIPAL DE LA CULTURA | F5: ='FAI CULTURA'!H4 -> Trimestre reportado: Primer Trimestre
A6: Eje: EDUCACIÓN Y JUVENTUD | F6: ='FAI CULTURA'!H5 -> Responsable de Evaluación:
A7: Nombre programa: DIVERSIDAD CULTURAL | F7: ='FAI CULTURA'!H6 -> Fecha: 30 de marzo
A24: N° | B24: Nombre del Indicador | F24: Estatus | G24: Validados
A25: 1 | B25: ='FAI CULTURA'!D12 -> tasa de variación en eventos culturales y artísticos | F25: NA | G25: NA
A26: 2 | B26: ='FAI CULTURA'!D13 -> tasa de variación de población que asiste a talleres y cursos | F26: NA | G26: NA
A27: 3 | B27: ='FAI CULTURA'!D14 -> porcentaje de alumnos beneficiados | F27: NA | G27: NA
A28: 4 | B28: ='FAI CULTURA'!D15 -> Porcentaje de eventos realizados | F28: NA | G28: NA
A29: 6 | B29: ='FAI CULTURA'!D16 -> porcentaje de intercambios realizados | F29: NA | G29: NA
A30: 7 | B30: ='FAI CULTURA'!D17 -> porcentaje de talleres y cursos | F30: =IF('FAI CULTURA'!O17<0, "Meta NO Cumplida", "Meta Cumplida") -> Meta Cumplida | G30: NO
A31: 8 | B31: ='FAI CULTURA'!D18 -> porcentaje de realización de eventos y cines | F31: =IF('FAI CULTURA'!O18<0, "Meta NO Cumplida", "Meta Cumplida") -> Meta Cumplida | G31: NO
A32: 9 | B32: ='FAI CULTURA'!D19 -> Porcentaje de eventos realizados | F32: =IF('FAI CULTURA'!O19<0, "Meta NO Cumplida", "Meta Cumplida") -> Meta Cumplida | G32: NO
B33: INDICADORES CON META CUMPLIDA | F33: =COUNTIF(F25:F32, "META CUMPLIDA") -> 3 | G33: =COUNTIF(G25:G32, "SI") -> 0
